BEGIN:VCALENDAR
VERSION:2.0
PRODID:icalendar-ruby
CALSCALE:GREGORIAN
METHOD:PUBLISH
BEGIN:VEVENT
DTSTAMP:20260425T165739Z
UID:10-1012560@daviscommunity.church
DTSTART:20260802T150000Z
DTEND:20260802T153000Z
CLASS:PUBLIC
CREATED:20260425T094849
DESCRIPTION:Sunday Fellowship
LAST-MODIFIED:20260425T094849
LOCATION:Iron Wolf Coffee House 121 E Main St. Davis\, OK 73030
SUMMARY:Sunday Fellowship
URL;VALUE=URI:https://daviscommunity.church/events/sunday-fellowship/2026-0
 8-02
END:VEVENT
END:VCALENDAR
