BEGIN:VCALENDAR
VERSION:2.0
PRODID:icalendar-ruby
CALSCALE:GREGORIAN
METHOD:PUBLISH
BEGIN:VEVENT
DTSTAMP:20260425T182001Z
UID:10-1012755@daviscommunity.church
DTSTART:20260809T150000Z
DTEND:20260809T153000Z
CLASS:PUBLIC
CREATED:20260425T122850
DESCRIPTION:Sunday Fellowship
LAST-MODIFIED:20260425T122850
LOCATION:Iron Wolf Coffee House 121 E Main St. Davis\, OK 73030
SUMMARY:Sunday Fellowship
URL;VALUE=URI:https://daviscommunity.church/events/sunday-fellowship/2026-0
 8-09
END:VEVENT
END:VCALENDAR
