BEGIN:VCALENDAR
VERSION:2.0
PRODID:icalendar-ruby
CALSCALE:GREGORIAN
METHOD:PUBLISH
BEGIN:VEVENT
DTSTAMP:20260425T194819Z
UID:10-1012756@daviscommunity.church
DTSTART:20260816T150000Z
DTEND:20260816T153000Z
CLASS:PUBLIC
CREATED:20260425T122850
DESCRIPTION:Sunday Fellowship
LAST-MODIFIED:20260425T122850
LOCATION:Iron Wolf Coffee House 121 E Main St. Davis\, OK 73030
SUMMARY:Sunday Fellowship
URL;VALUE=URI:https://daviscommunity.church/events/sunday-fellowship/2026-0
 8-16
END:VEVENT
END:VCALENDAR
