BEGIN:VCALENDAR
VERSION:2.0
PRODID:icalendar-ruby
CALSCALE:GREGORIAN
METHOD:PUBLISH
BEGIN:VEVENT
DTSTAMP:20260426T022538Z
UID:10-1013343@daviscommunity.church
DTSTART:20260920T150000Z
DTEND:20260920T153000Z
CLASS:PUBLIC
CREATED:20260425T203444
DESCRIPTION:Sunday Fellowship
LAST-MODIFIED:20260425T203444
LOCATION:Iron Wolf Coffee House 121 E Main St. Davis\, OK 73030
SUMMARY:Sunday Fellowship
URL;VALUE=URI:https://daviscommunity.church/events/sunday-fellowship/2026-0
 9-20
END:VEVENT
END:VCALENDAR
