BEGIN:VCALENDAR
VERSION:2.0
PRODID:icalendar-ruby
CALSCALE:GREGORIAN
METHOD:PUBLISH
BEGIN:VEVENT
DTSTAMP:20260425T205409Z
UID:9-1012858@daviscommunity.church
DTSTART:20260920T153000Z
DTEND:20260920T170000Z
CLASS:PUBLIC
CREATED:20260425T151021
DESCRIPTION:Sunday Worship
LAST-MODIFIED:20260425T151021
LOCATION:Iron Wolf Coffee House 121 E Main St. Davis\, OK 73030
SUMMARY:Sunday Worship
URL;VALUE=URI:https://daviscommunity.church/events/sunday-worship/2026-09-2
 0
END:VEVENT
END:VCALENDAR
