BEGIN:VCALENDAR
VERSION:2.0
PRODID:icalendar-ruby
CALSCALE:GREGORIAN
METHOD:PUBLISH
BEGIN:VEVENT
DTSTAMP:20260426T004055Z
UID:9-1013055@daviscommunity.church
DTSTART:20261011T153000Z
DTEND:20261011T170000Z
CLASS:PUBLIC
CREATED:20260425T175237
DESCRIPTION:Sunday Worship
LAST-MODIFIED:20260425T175237
LOCATION:Iron Wolf Coffee House 121 E Main St. Davis\, OK 73030
SUMMARY:Sunday Worship
URL;VALUE=URI:https://daviscommunity.church/events/sunday-worship/2026-10-1
 1
END:VEVENT
END:VCALENDAR
